Workbook

Sheet Monatsplan
A1: Dienstplan
A2: Monat (erster Tag): | B2: 46327 | D2: Betrieb / Objekt: | H2: Kürzel siehe Blatt „Schichten“ · Vorlage von Kordo · mykordo.app
A4: Name | B4: Std. | C4: =IF(1<=DAY(EOMONTH($B$2,0)),1,"") | D4: =IF(2<=DAY(EOMONTH($B$2,0)),2,"") | E4: =IF(3<=DAY(EOMONTH($B$2,0)),3,"") | F4: =IF(4<=DAY(EOMONTH($B$2,0)),4,"") | G4: =IF(5<=DAY(EOMONTH($B$2,0)),5,"") | H4: =IF(6<=DAY(EOMONTH($B$2,0)),6,"") | I4: =IF(7<=DAY(EOMONTH($B$2,0)),7,"") | J4: =IF(8<=DAY(EOMONTH($B$2,0)),8,"") | K4: =IF(9<=DAY(EOMONTH($B$2,0)),9,"") | L4: =IF(10<=DAY(EOMONTH($B$2,0)),10,"") | M4: =IF(11<=DAY(EOMONTH($B$2,0)),11,"") | N4: =IF(12<=DAY(EOMONTH($B$2,0)),12,"") | O4: =IF(13<=DAY(EOMONTH($B$2,0)),13,"") | P4: =IF(14<=DAY(EOMONTH($B$2,0)),14,"") | Q4: =IF(15<=DAY(EOMONTH($B$2,0)),15,"") | R4: =IF(16<=DAY(EOMONTH($B$2,0)),16,"") | S4: =IF(17<=DAY(EOMONTH($B$2,0)),17,"") | T4: =IF(18<=DAY(EOMONTH($B$2,0)),18,"") | U4: =IF(19<=DAY(EOMONTH($B$2,0)),19,"") | V4: =IF(20<=DAY(EOMONTH($B$2,0)),20,"") | W4: =IF(21<=DAY(EOMONTH($B$2,0)),21,"") | X4: =IF(22<=DAY(EOMONTH($B$2,0)),22,"") | Y4: =IF(23<=DAY(EOMONTH($B$2,0)),23,"") | Z4: =IF(24<=DAY(EOMONTH($B$2,0)),24,"") | AA4: =IF(25<=DAY(EOMONTH($B$2,0)),25,"") | AB4: =IF(26<=DAY(EOMONTH($B$2,0)),26,"") | AC4: =IF(27<=DAY(EOMONTH($B$2,0)),27,"") | AD4: =IF(28<=DAY(EOMONTH($B$2,0)),28,"") | AE4: =IF(29<=DAY(EOMONTH($B$2,0)),29,"") | AF4: =IF(30<=DAY(EOMONTH($B$2,0)),30,"") | AG4: =IF(31<=DAY(EOMONTH($B$2,0)),31,"") | AH4: Stunden
B5: Soll | C5: =IF(1<=DAY(EOMONTH($B$2,0)),CHOOSE(WEEKDAY(DATE(YEAR($B$2),MONTH($B$2),1),2),"Mo","Di","Mi","Do","Fr","Sa","So"),"") | D5: =IF(2<=DAY(EOMONTH($B$2,0)),CHOOSE(WEEKDAY(DATE(YEAR($B$2),MONTH($B$2),2),2),"Mo","Di","Mi","Do","Fr","Sa","So"),"") | E5: =IF(3<=DAY(EOMONTH($B$2,0)),CHOOSE(WEEKDAY(DATE(YEAR($B$2),MONTH($B$2),3),2),"Mo","Di","Mi","Do","Fr","Sa","So"),"") | F5: =IF(4<=DAY(EOMONTH($B$2,0)),CHOOSE(WEEKDAY(DATE(YEAR($B$2),MONTH($B$2),4),2),"Mo","Di","Mi","Do","Fr","Sa","So"),"") | G5: =IF(5<=DAY(EOMONTH($B$2,0)),CHOOSE(WEEKDAY(DATE(YEAR($B$2),MONTH($B$2),5),2),"Mo","Di","Mi","Do","Fr","Sa","So"),"") | H5: =IF(6<=DAY(EOMONTH($B$2,0)),CHOOSE(WEEKDAY(DATE(YEAR($B$2),MONTH($B$2),6),2),"Mo","Di","Mi","Do","Fr","Sa","So"),"") | I5: =IF(7<=DAY(EOMONTH($B$2,0)),CHOOSE(WEEKDAY(DATE(YEAR($B$2),MONTH($B$2),7),2),"Mo","Di","Mi","Do","Fr","Sa","So"),"") | J5: =IF(8<=DAY(EOMONTH($B$2,0)),CHOOSE(WEEKDAY(DATE(YEAR($B$2),MONTH($B$2),8),2),"Mo","Di","Mi","Do","Fr","Sa","So"),"") | K5: =IF(9<=DAY(EOMONTH($B$2,0)),CHOOSE(WEEKDAY(DATE(YEAR($B$2),MONTH($B$2),9),2),"Mo","Di","Mi","Do","Fr","Sa","So"),"") | L5: =IF(10<=DAY(EOMONTH($B$2,0)),CHOOSE(WEEKDAY(DATE(YEAR($B$2),MONTH($B$2),10),2),"Mo","Di","Mi","Do","Fr","Sa","So"),"") | M5: =IF(11<=DAY(EOMONTH($B$2,0)),CHOOSE(WEEKDAY(DATE(YEAR($B$2),MONTH($B$2),11),2),"Mo","Di","Mi","Do","Fr","Sa","So"),"") | N5: =IF(12<=DAY(EOMONTH($B$2,0)),CHOOSE(WEEKDAY(DATE(YEAR($B$2),MONTH($B$2),12),2),"Mo","Di","Mi","Do","Fr","Sa","So"),"") | O5: =IF(13<=DAY(EOMONTH($B$2,0)),CHOOSE(WEEKDAY(DATE(YEAR($B$2),MONTH($B$2),13),2),"Mo","Di","Mi","Do","Fr","Sa","So"),"") | P5: =IF(14<=DAY(EOMONTH($B$2,0)),CHOOSE(WEEKDAY(DATE(YEAR($B$2),MONTH($B$2),14),2),"Mo","Di","Mi","Do","Fr","Sa","So"),"") | Q5: =IF(15<=DAY(EOMONTH($B$2,0)),CHOOSE(WEEKDAY(DATE(YEAR($B$2),MONTH($B$2),15),2),"Mo","Di","Mi","Do","Fr","Sa","So"),"") | R5: =IF(16<=DAY(EOMONTH($B$2,0)),CHOOSE(WEEKDAY(DATE(YEAR($B$2),MONTH($B$2),16),2),"Mo","Di","Mi","Do","Fr","Sa","So"),"") | S5: =IF(17<=DAY(EOMONTH($B$2,0)),CHOOSE(WEEKDAY(DATE(YEAR($B$2),MONTH($B$2),17),2),"Mo","Di","Mi","Do","Fr","Sa","So"),"") | T5: =IF(18<=DAY(EOMONTH($B$2,0)),CHOOSE(WEEKDAY(DATE(YEAR($B$2),MONTH($B$2),18),2),"Mo","Di","Mi","Do","Fr","Sa","So"),"") | U5: =IF(19<=DAY(EOMONTH($B$2,0)),CHOOSE(WEEKDAY(DATE(YEAR($B$2),MONTH($B$2),19),2),"Mo","Di","Mi","Do","Fr","Sa","So"),"") | V5: =IF(20<=DAY(EOMONTH($B$2,0)),CHOOSE(WEEKDAY(DATE(YEAR($B$2),MONTH($B$2),20),2),"Mo","Di","Mi","Do","Fr","Sa","So"),"") | W5: =IF(21<=DAY(EOMONTH($B$2,0)),CHOOSE(WEEKDAY(DATE(YEAR($B$2),MONTH($B$2),21),2),"Mo","Di","Mi","Do","Fr","Sa","So"),"") | X5: =IF(22<=DAY(EOMONTH($B$2,0)),CHOOSE(WEEKDAY(DATE(YEAR($B$2),MONTH($B$2),22),2),"Mo","Di","Mi","Do","Fr","Sa","So"),"") | Y5: =IF(23<=DAY(EOMONTH($B$2,0)),CHOOSE(WEEKDAY(DATE(YEAR($B$2),MONTH($B$2),23),2),"Mo","Di","Mi","Do","Fr","Sa","So"),"") | Z5: =IF(24<=DAY(EOMONTH($B$2,0)),CHOOSE(WEEKDAY(DATE(YEAR($B$2),MONTH($B$2),24),2),"Mo","Di","Mi","Do","Fr","Sa","So"),"") | AA5: =IF(25<=DAY(EOMONTH($B$2,0)),CHOOSE(WEEKDAY(DATE(YEAR($B$2),MONTH($B$2),25),2),"Mo","Di","Mi","Do","Fr","Sa","So"),"") | AB5: =IF(26<=DAY(EOMONTH($B$2,0)),CHOOSE(WEEKDAY(DATE(YEAR($B$2),MONTH($B$2),26),2),"Mo","Di","Mi","Do","Fr","Sa","So"),"") | AC5: =IF(27<=DAY(EOMONTH($B$2,0)),CHOOSE(WEEKDAY(DATE(YEAR($B$2),MONTH($B$2),27),2),"Mo","Di","Mi","Do","Fr","Sa","So"),"") | AD5: =IF(28<=DAY(EOMONTH($B$2,0)),CHOOSE(WEEKDAY(DATE(YEAR($B$2),MONTH($B$2),28),2),"Mo","Di","Mi","Do","Fr","Sa","So"),"") | AE5: =IF(29<=DAY(EOMONTH($B$2,0)),CHOOSE(WEEKDAY(DATE(YEAR($B$2),MONTH($B$2),29),2),"Mo","Di","Mi","Do","Fr","Sa","So"),"") | AF5: =IF(30<=DAY(EOMONTH($B$2,0)),CHOOSE(WEEKDAY(DATE(YEAR($B$2),MONTH($B$2),30),2),"Mo","Di","Mi","Do","Fr","Sa","So"),"") | AG5: =IF(31<=DAY(EOMONTH($B$2,0)),CHOOSE(WEEKDAY(DATE(YEAR($B$2),MONTH($B$2),31),2),"Mo","Di","Mi","Do","Fr","Sa","So"),"") | AH5: Ist
A6: Beispiel: A. Muster | B6: 160 | C6: F | D6: F | E6: S | F6: S | G6: X | H6: X | I6: N | AH6: =SUMPRODUCT(COUNTIF(C6:AG6,Schichten!$A$2:$A$11)*(Schichten!$E$2:$E$11))
AH7: =SUMPRODUCT(COUNTIF(C7:AG7,Schichten!$A$2:$A$11)*(Schichten!$E$2:$E$11))
AH8: =SUMPRODUCT(COUNTIF(C8:AG8,Schichten!$A$2:$A$11)*(Schichten!$E$2:$E$11))
AH9: =SUMPRODUCT(COUNTIF(C9:AG9,Schichten!$A$2:$A$11)*(Schichten!$E$2:$E$11))
AH10: =SUMPRODUCT(COUNTIF(C10:AG10,Schichten!$A$2:$A$11)*(Schichten!$E$2:$E$11))
AH11: =SUMPRODUCT(COUNTIF(C11:AG11,Schichten!$A$2:$A$11)*(Schichten!$E$2:$E$11))
AH12: =SUMPRODUCT(COUNTIF(C12:AG12,Schichten!$A$2:$A$11)*(Schichten!$E$2:$E$11))
AH13: =SUMPRODUCT(COUNTIF(C13:AG13,Schichten!$A$2:$A$11)*(Schichten!$E$2:$E$11))
AH14: =SUMPRODUCT(COUNTIF(C14:AG14,Schichten!$A$2:$A$11)*(Schichten!$E$2:$E$11))
AH15: =SUMPRODUCT(COUNTIF(C15:AG15,Schichten!$A$2:$A$11)*(Schichten!$E$2:$E$11))
AH16: =SUMPRODUCT(COUNTIF(C16:AG16,Schichten!$A$2:$A$11)*(Schichten!$E$2:$E$11))
AH17: =SUMPRODUCT(COUNTIF(C17:AG17,Schichten!$A$2:$A$11)*(Schichten!$E$2:$E$11))
AH18: =SUMPRODUCT(COUNTIF(C18:AG18,Schichten!$A$2:$A$11)*(Schichten!$E$2:$E$11))
... AH25: =SUMPRODUCT(COUNTIF(C25:AG25,Schichten!$A$2:$A$11)*(Schichten!$E$2:$E$11))
A27: Besetzt Früh | C27: =COUNTIF(C6:C25,"F") | D27: =COUNTIF(D6:D25,"F") | E27: =COUNTIF(E6:E25,"F") | F27: =COUNTIF(F6:F25,"F") | G27: =COUNTIF(G6:G25,"F") | H27: =COUNTIF(H6:H25,"F") | I27: =COUNTIF(I6:I25,"F") | J27: =COUNTIF(J6:J25,"F") | ... AG27: =COUNTIF(AG6:AG25,"F")
A28: Besetzt Spät | C28: =COUNTIF(C6:C25,"S") | D28: =COUNTIF(D6:D25,"S") | E28: =COUNTIF(E6:E25,"S") | F28: =COUNTIF(F6:F25,"S") | G28: =COUNTIF(G6:G25,"S") | H28: =COUNTIF(H6:H25,"S") | I28: =COUNTIF(I6:I25,"S") | J28: =COUNTIF(J6:J25,"S") | ... AG28: =COUNTIF(AG6:AG25,"S")
A29: Besetzt Nacht | C29: =COUNTIF(C6:C25,"N") | D29: =COUNTIF(D6:D25,"N") | E29: =COUNTIF(E6:E25,"N") | F29: =COUNTIF(F6:F25,"N") | G29: =COUNTIF(G6:G25,"N") | H29: =COUNTIF(H6:H25,"N") | I29: =COUNTIF(I6:I25,"N") | J29: =COUNTIF(J6:J25,"N") | ... AG29: =COUNTIF(AG6:AG25,"N")
A30: Besetzt Tag | C30: =COUNTIF(C6:C25,"T") | D30: =COUNTIF(D6:D25,"T") | E30: =COUNTIF(E6:E25,"T") | F30: =COUNTIF(F6:F25,"T") | G30: =COUNTIF(G6:G25,"T") | H30: =COUNTIF(H6:H25,"T") | I30: =COUNTIF(I6:I25,"T") | J30: =COUNTIF(J6:J25,"T") | ... AG30: =COUNTIF(AG6:AG25,"T")

Sheet Schichten
A1: Kürzel | B1: Bezeichnung | C1: Beginn | D1: Ende | E1: Stunden (bezahlt)
A2: F | B2: Frühdienst | C2: 06:00 | D2: 14:00 | E2: 7.5 | G2: Kürzel und Stunden frei änderbar; leere Zeilen für eigene Schichten.
A3: S | B3: Spätdienst | C3: 14:00 | D3: 22:00 | E3: 7.5
A4: N | B4: Nachtdienst | C4: 22:00 | D4: 06:00 | E4: 7.5
A5: T | B5: Tagdienst | C5: 08:00 | D5: 16:30 | E5: 8
A6: U | B6: Urlaub | E6: 0
A7: K | B7: krank | E7: 0
A8: X | B8: frei | E8: 0

Sheet So geht es
A1: So geht es
A2: 1. Im Blatt „Monatsplan“ in B2 den ersten Tag des Monats eintragen – Tage und Wochentage passen sich an.
A3: 2. Im Blatt „Schichten“ Kürzel, Zeiten und bezahlte Stunden Ihrer Schichten eintragen (bis zu zehn).
A4: 3. Je Person und Tag das Kürzel eintragen. Rechts stehen die Stunden, in Spalte B tragen Sie das Soll ein.
A5: 4. Unten zählt die Vorlage, wie viele Personen je Tag Früh, Spät, Nacht und Tag haben.
A7: Worauf achten
A8: • Zwischen zwei Diensten liegen mindestens elf Stunden Ruhe (§ 5 ArbZG) – etwa nicht Spät und am nächsten Tag Früh.
A9: • Mehr als zehn Stunden am Tag nur mit tariflicher Grundlage (§§ 3, 7 ArbZG).
A10: • In Gebäudereinigung und Sicherheitsgewerbe muss die Arbeitszeit spätestens am siebten Tag aufgezeichnet sein (§ 17 MiLoG).
A11: • Die Vorlage prüft nichts davon – sie zählt nur.
A13: Vorlage von Kordo · mykordo.app – frei verwendbar, ohne Gewähr.
A14: Wenn Excel nicht mehr reicht: Kordo prüft Ruhezeit und Nachweise schon beim Einteilen – mykordo.app/dienstplan-vorlage
